BEGIN:VCALENDAR
VERSION:2.0
PRODID:-//Gilmore College - ECPv6.15.20//NONSGML v1.0//EN
CALSCALE:GREGORIAN
METHOD:PUBLISH
X-WR-CALNAME:Gilmore College
X-ORIGINAL-URL:http://gilmorecollege.wa.edu.au
X-WR-CALDESC:Events for Gilmore College
REFRESH-INTERVAL;VALUE=DURATION:PT1H
X-Robots-Tag:noindex
X-PUBLISHED-TTL:PT1H
BEGIN:VTIMEZONE
TZID:Australia/Perth
BEGIN:STANDARD
TZOFFSETFROM:+0800
TZOFFSETTO:+0800
TZNAME:AWST
DTSTART:20230101T000000
END:STANDARD
END:VTIMEZONE
BEGIN:VEVENT
DTSTART;TZID=Australia/Perth:20240620T151500
DTEND;TZID=Australia/Perth:20240620T164500
DTSTAMP:20260422T093830
CREATED:20240619T093523Z
LAST-MODIFIED:20240619T093523Z
UID:906-1718896500-1718901900@gilmorecollege.wa.edu.au
SUMMARY:Event: GCVP - Thursday Training (1st & 2nd Squads)
DESCRIPTION:GCVP – Thursday Training (1st & 2nd Squads)
URL:http://gilmorecollege.wa.edu.au/event/event-gcvp-thursday-training-1st-2nd-squads/
CATEGORIES:Events
END:VEVENT
BEGIN:VEVENT
DTSTART;TZID=Australia/Perth:20240620T133000
DTEND;TZID=Australia/Perth:20240621T143000
DTSTAMP:20260422T093830
CREATED:20240619T093523Z
LAST-MODIFIED:20240619T093523Z
UID:907-1718890200-1718980200@gilmorecollege.wa.edu.au
SUMMARY:Event: Clontarf Year 7 Collie Induction Camp
DESCRIPTION:Clontarf Year 7 Collie Induction Camp
URL:http://gilmorecollege.wa.edu.au/event/event-clontarf-year-7-collie-induction-camp/
CATEGORIES:Events
END:VEVENT
BEGIN:VEVENT
DTSTART;TZID=Australia/Perth:20240620T083000
DTEND;TZID=Australia/Perth:20240620T144000
DTSTAMP:20260422T093830
CREATED:20240619T093523Z
LAST-MODIFIED:20240619T093523Z
UID:905-1718872200-1718894400@gilmorecollege.wa.edu.au
SUMMARY:Event: Hospitality First Aid
DESCRIPTION:Hospitality First Aid
URL:http://gilmorecollege.wa.edu.au/event/event-hospitality-first-aid/
LOCATION:ANNEX2
CATEGORIES:Events
END:VEVENT
BEGIN:VEVENT
DTSTART;TZID=Australia/Perth:20240620T080000
DTEND;TZID=Australia/Perth:20240620T144000
DTSTAMP:20260422T093830
CREATED:20240619T093523Z
LAST-MODIFIED:20240619T093523Z
UID:908-1718870400-1718894400@gilmorecollege.wa.edu.au
SUMMARY:Event: The Smith Family’s Work Inspirations ARUP
DESCRIPTION:The Smith Family’s Work Inspirations ARUP
URL:http://gilmorecollege.wa.edu.au/event/event-the-smith-familys-work-inspirations-arup/
CATEGORIES:Events
END:VEVENT
BEGIN:VEVENT
DTSTART;TZID=Australia/Perth:20240620T073000
DTEND;TZID=Australia/Perth:20240620T083000
DTSTAMP:20260422T093830
CREATED:20240619T093524Z
LAST-MODIFIED:20240619T093524Z
UID:910-1718868600-1718872200@gilmorecollege.wa.edu.au
SUMMARY:Event: GCVP - Thursday Training (Year 7s)
DESCRIPTION:GCVP – Thursday Training (Year 7s)
URL:http://gilmorecollege.wa.edu.au/event/event-gcvp-thursday-training-year-7s/
LOCATION:GYM
CATEGORIES:Events
END:VEVENT
BEGIN:VEVENT
DTSTART;TZID=Australia/Perth:20240613T150000
DTEND;TZID=Australia/Perth:20240613T163000
DTSTAMP:20260422T093830
CREATED:20240624T101411Z
LAST-MODIFIED:20240624T101411Z
UID:1200-1718290800-1718296200@gilmorecollege.wa.edu.au
SUMMARY:School Board Meeting
DESCRIPTION:
URL:http://gilmorecollege.wa.edu.au/event/school-board-meeting/
CATEGORIES:School Community
END:VEVENT
BEGIN:VEVENT
DTSTART;TZID=Australia/Perth:20240613T090000
DTEND;TZID=Australia/Perth:20240613T103000
DTSTAMP:20260422T093830
CREATED:20240624T101411Z
LAST-MODIFIED:20240624T101411Z
UID:1199-1718269200-1718274600@gilmorecollege.wa.edu.au
SUMMARY:Principal's Tour of the College
DESCRIPTION:We warmly invite families of current and prospective students to visit our school for a Tour of the facilities and gain an understanding of the opportunities available for our students.  The 45 minute Tour will commence at 9:00am from the Administration Office at the front of the school. Morning tea and a Question & Answer session will follow the Tour in the conference room. We will answer your questions honestly; explaining our ethos and our passions.  College Tours provide prospective and current families the opportunity to visit the school during a normal day\, visiting the places where learning and engagement take place and to provide a true sense of Gilmore College. The student leaders in particular are a great source of authentic information about what it means to be a Gilmore College student day to day.  Please note\, this is a ‘parents only’ tour. (Students who enrol at Gilmore College will visit the school for their orientation later in the year.)
URL:http://gilmorecollege.wa.edu.au/event/principals-tour-of-the-college/
CATEGORIES:School Community
END:VEVENT
BEGIN:VEVENT
DTSTART;TZID=Australia/Perth:20240531T000000
DTEND;TZID=Australia/Perth:20240607T234500
DTSTAMP:20260422T093830
CREATED:20240624T101450Z
LAST-MODIFIED:20240624T101450Z
UID:1215-1717113600-1717803900@gilmorecollege.wa.edu.au
SUMMARY:Year 11 ATAR Exams
DESCRIPTION:
URL:http://gilmorecollege.wa.edu.au/event/year-11-atar-exams/
CATEGORIES:Exams
END:VEVENT
BEGIN:VEVENT
DTSTART;TZID=Australia/Perth:20240529T160000
DTEND;TZID=Australia/Perth:20240529T173000
DTSTAMP:20260422T093830
CREATED:20240624T101411Z
LAST-MODIFIED:20240624T101411Z
UID:1198-1716998400-1717003800@gilmorecollege.wa.edu.au
SUMMARY:Year 6 Information Night
DESCRIPTION:
URL:http://gilmorecollege.wa.edu.au/event/year-6-information-night/
CATEGORIES:School Community
END:VEVENT
BEGIN:VEVENT
DTSTART;TZID=Australia/Perth:20240528T173000
DTEND;TZID=Australia/Perth:20240528T190000
DTSTAMP:20260422T093830
CREATED:20240624T101410Z
LAST-MODIFIED:20240624T101410Z
UID:1197-1716917400-1716922800@gilmorecollege.wa.edu.au
SUMMARY:Year 10 Information Night
DESCRIPTION:
URL:http://gilmorecollege.wa.edu.au/event/year-10-information-night/
CATEGORIES:School Community
END:VEVENT
BEGIN:VEVENT
DTSTART;TZID=Australia/Perth:20240527T000000
DTEND;TZID=Australia/Perth:20240531T234500
DTSTAMP:20260422T093830
CREATED:20240624T101450Z
LAST-MODIFIED:20240624T101450Z
UID:1214-1716768000-1717199100@gilmorecollege.wa.edu.au
SUMMARY:Year 10 AEP Exams
DESCRIPTION:
URL:http://gilmorecollege.wa.edu.au/event/year-10-aep-exams/
CATEGORIES:Exams
END:VEVENT
BEGIN:VEVENT
DTSTART;TZID=Australia/Perth:20240527T000000
DTEND;TZID=Australia/Perth:20240530T234500
DTSTAMP:20260422T093830
CREATED:20240624T101602Z
LAST-MODIFIED:20240624T101602Z
UID:1223-1716768000-1717112700@gilmorecollege.wa.edu.au
SUMMARY:Year 11 ATAR Assessment-Free Week
DESCRIPTION:
URL:http://gilmorecollege.wa.edu.au/event/year-11-atar-assessment-free-week/
CATEGORIES:Senior School
END:VEVENT
BEGIN:VEVENT
DTSTART;TZID=Australia/Perth:20240520T000000
DTEND;TZID=Australia/Perth:20240524T234500
DTSTAMP:20260422T093830
CREATED:20240624T101450Z
LAST-MODIFIED:20240624T101450Z
UID:1213-1716163200-1716594300@gilmorecollege.wa.edu.au
SUMMARY:Year 12 ATAR Exams
DESCRIPTION:
URL:http://gilmorecollege.wa.edu.au/event/year-12-atar-exams/
CATEGORIES:Exams
END:VEVENT
BEGIN:VEVENT
DTSTART;TZID=Australia/Perth:20240513T000000
DTEND;TZID=Australia/Perth:20240517T234500
DTSTAMP:20260422T093830
CREATED:20240624T101602Z
LAST-MODIFIED:20240624T101602Z
UID:1222-1715558400-1715989500@gilmorecollege.wa.edu.au
SUMMARY:Year 12 ATAR Assessment-Free Week
DESCRIPTION:
URL:http://gilmorecollege.wa.edu.au/event/year-12-atar-assessment-free-week/
CATEGORIES:Senior School
END:VEVENT
BEGIN:VEVENT
DTSTART;TZID=Australia/Perth:20240506T000000
DTEND;TZID=Australia/Perth:20240510T234500
DTSTAMP:20260422T093830
CREATED:20240624T101450Z
LAST-MODIFIED:20240624T101450Z
UID:1212-1714953600-1715384700@gilmorecollege.wa.edu.au
SUMMARY:Year 12 Externally Set Tasks
DESCRIPTION:
URL:http://gilmorecollege.wa.edu.au/event/year-12-externally-set-tasks/
CATEGORIES:Exams
END:VEVENT
END:VCALENDAR