BEGIN:VCALENDAR
VERSION:2.0
PRODID:-//Gilmore College - ECPv6.15.20//NONSGML v1.0//EN
CALSCALE:GREGORIAN
METHOD:PUBLISH
X-WR-CALNAME:Gilmore College
X-ORIGINAL-URL:http://gilmorecollege.wa.edu.au
X-WR-CALDESC:Events for Gilmore College
REFRESH-INTERVAL;VALUE=DURATION:PT1H
X-Robots-Tag:noindex
X-PUBLISHED-TTL:PT1H
BEGIN:VTIMEZONE
TZID:Australia/Perth
BEGIN:STANDARD
TZOFFSETFROM:+0800
TZOFFSETTO:+0800
TZNAME:AWST
DTSTART:20230101T000000
END:STANDARD
END:VTIMEZONE
BEGIN:VEVENT
DTSTART;TZID=Australia/Perth:20240527T000000
DTEND;TZID=Australia/Perth:20240530T234500
DTSTAMP:20260421T172937
CREATED:20240624T101602Z
LAST-MODIFIED:20240624T101602Z
UID:1223-1716768000-1717112700@gilmorecollege.wa.edu.au
SUMMARY:Year 11 ATAR Assessment-Free Week
DESCRIPTION:
URL:http://gilmorecollege.wa.edu.au/event/year-11-atar-assessment-free-week/
CATEGORIES:Senior School
END:VEVENT
BEGIN:VEVENT
DTSTART;TZID=Australia/Perth:20240520T000000
DTEND;TZID=Australia/Perth:20240524T234500
DTSTAMP:20260421T172937
CREATED:20240624T101450Z
LAST-MODIFIED:20240624T101450Z
UID:1213-1716163200-1716594300@gilmorecollege.wa.edu.au
SUMMARY:Year 12 ATAR Exams
DESCRIPTION:
URL:http://gilmorecollege.wa.edu.au/event/year-12-atar-exams/
CATEGORIES:Exams
END:VEVENT
BEGIN:VEVENT
DTSTART;TZID=Australia/Perth:20240513T000000
DTEND;TZID=Australia/Perth:20240517T234500
DTSTAMP:20260421T172937
CREATED:20240624T101602Z
LAST-MODIFIED:20240624T101602Z
UID:1222-1715558400-1715989500@gilmorecollege.wa.edu.au
SUMMARY:Year 12 ATAR Assessment-Free Week
DESCRIPTION:
URL:http://gilmorecollege.wa.edu.au/event/year-12-atar-assessment-free-week/
CATEGORIES:Senior School
END:VEVENT
BEGIN:VEVENT
DTSTART;TZID=Australia/Perth:20240506T000000
DTEND;TZID=Australia/Perth:20240510T234500
DTSTAMP:20260421T172937
CREATED:20240624T101450Z
LAST-MODIFIED:20240624T101450Z
UID:1212-1714953600-1715384700@gilmorecollege.wa.edu.au
SUMMARY:Year 12 Externally Set Tasks
DESCRIPTION:
URL:http://gilmorecollege.wa.edu.au/event/year-12-externally-set-tasks/
CATEGORIES:Exams
END:VEVENT
END:VCALENDAR