BEGIN:VCALENDAR
VERSION:2.0
PRODID:-//Gilmore College - ECPv6.15.20//NONSGML v1.0//EN
CALSCALE:GREGORIAN
METHOD:PUBLISH
X-WR-CALNAME:Gilmore College
X-ORIGINAL-URL:http://gilmorecollege.wa.edu.au
X-WR-CALDESC:Events for Gilmore College
REFRESH-INTERVAL;VALUE=DURATION:PT1H
X-Robots-Tag:noindex
X-PUBLISHED-TTL:PT1H
BEGIN:VTIMEZONE
TZID:Australia/Perth
BEGIN:STANDARD
TZOFFSETFROM:+0800
TZOFFSETTO:+0800
TZNAME:AWST
DTSTART:20240101T000000
END:STANDARD
END:VTIMEZONE
BEGIN:VEVENT
DTSTART;TZID=Australia/Perth:20251106T140000
DTEND;TZID=Australia/Perth:20251106T150000
DTSTAMP:20260423T055902
CREATED:20251031T060453Z
LAST-MODIFIED:20251103T020510Z
UID:31036-1762437600-1762441200@gilmorecollege.wa.edu.au
SUMMARY:P & C Association Meeting
DESCRIPTION:Gilmore College Parents and Citizens Association Meeting
URL:http://gilmorecollege.wa.edu.au/event/p-c-association-meeting/
CATEGORIES:School Community
END:VEVENT
BEGIN:VEVENT
DTSTART;TZID=Australia/Perth:20251218T144000
DTEND;TZID=Australia/Perth:20251218T144500
DTSTAMP:20260423T055902
CREATED:20250212T051641Z
LAST-MODIFIED:20251103T020511Z
UID:3232-1766068800-1766069100@gilmorecollege.wa.edu.au
SUMMARY:End of Term 4
DESCRIPTION:
URL:http://gilmorecollege.wa.edu.au/event/end-of-term-4/
CATEGORIES:School Community
END:VEVENT
END:VCALENDAR