BEGIN:VCALENDAR
VERSION:2.0
PRODID:-//Gilmore College - ECPv6.15.20//NONSGML v1.0//EN
CALSCALE:GREGORIAN
METHOD:PUBLISH
X-WR-CALNAME:Gilmore College
X-ORIGINAL-URL:http://gilmorecollege.wa.edu.au
X-WR-CALDESC:Events for Gilmore College
REFRESH-INTERVAL;VALUE=DURATION:PT1H
X-Robots-Tag:noindex
X-PUBLISHED-TTL:PT1H
BEGIN:VTIMEZONE
TZID:Australia/Perth
BEGIN:STANDARD
TZOFFSETFROM:+0800
TZOFFSETTO:+0800
TZNAME:AWST
DTSTART:20240101T000000
END:STANDARD
END:VTIMEZONE
BEGIN:VEVENT
DTSTART;TZID=Australia/Perth:20250911T084000
DTEND;TZID=Australia/Perth:20250911T144000
DTSTAMP:20260422T044817
CREATED:20250807T041939Z
LAST-MODIFIED:20250911T060444Z
UID:21925-1757580000-1757601600@gilmorecollege.wa.edu.au
SUMMARY:RU OK? Day
DESCRIPTION:This day is dedicated to encouraging meaningful conversations to support mental health and prevent suicide.
URL:http://gilmorecollege.wa.edu.au/event/ru-ok-day/
CATEGORIES:School Community
END:VEVENT
END:VCALENDAR